BEGIN:VCALENDAR
VERSION:2.0
PRODID:-//eventon.com NONSGML v1.0//EN
CALSCALE:GREGORIAN
METHOD:PUBLISH
BEGIN:VEVENT
UID:69eaf5f952d2a
DTSTAMP:20260424T044753Z
DTSTART:20151211T133000Z
DTEND:20151211T153000Z
LOCATION:Achalmschule Trakt 2 Burgtalstraße 15\,  72800 Eningen unter Achalm
SUMMARY:Kleiderkammer geöffnet
DESCRIPTION:Kleiderkammer geöffnet\nhttps://www.arbeitskreis-asyl-eningen.
 de/termin/kleiderkammer-geoeffnet-copy/
URL:https://www.arbeitskreis-asyl-eningen.de/termin/kleiderkammer-geoeffnet-copy/
END:VEVENT
END:VCALENDAR