BEGIN:VCALENDAR
VERSION:2.0
PRODID:-//eventon.com NONSGML v1.0//EN
CALSCALE:GREGORIAN
METHOD:PUBLISH
BEGIN:VEVENT
UID:69e8deaf48f3d
DTSTAMP:20260422T144359Z
DTSTART:20170328T173000Z
DTEND:20170327T220000Z
LOCATION:AK Asyl Im Grund 4\,  72800 Eningen
SUMMARY:Vollversammlung des AK Asyl Eningen
DESCRIPTION:Vollversammlung des AK Asyl Eningen\nhttps://www.arbeitskreis-a
 syl-eningen.de/termin/vollversammlung-des-ak-asyl-eningen/
URL:https://www.arbeitskreis-asyl-eningen.de/termin/vollversammlung-des-ak-asyl-eningen/
END:VEVENT
END:VCALENDAR