BEGIN:VCALENDAR
VERSION:2.0
PRODID:-//eventon.com NONSGML v1.0//EN
CALSCALE:GREGORIAN
METHOD:PUBLISH
BEGIN:VEVENT
UID:69e7345119065
DTSTAMP:20260421T082449Z
DTSTART:20181024T173000Z
DTEND:20181024T215000Z
LOCATION:Asylcafé Im Grund 4\,  72800 Eningen unter Achalm
SUMMARY:Lesung „Mord in der Tuba“
DESCRIPTION:Buchhandlung Litera zusammen mit dem AK Asyl Eningen &#8211; Le
 sung „Mord in der Tuba“ (genauere Infos folgen)\nhttps://www.arbeitskre
 is-asyl-eningen.de/termin/lesung-mord-in-der-tuba/
URL:https://www.arbeitskreis-asyl-eningen.de/termin/lesung-mord-in-der-tuba/
END:VEVENT
END:VCALENDAR